BEGIN:VCALENDAR
VERSION:2.0
PRODID:-//Balatonboglári Városvédő Egyesület - ECPv6.15.20//NONSGML v1.0//EN
CALSCALE:GREGORIAN
METHOD:PUBLISH
X-WR-CALNAME:Balatonboglári Városvédő Egyesület
X-ORIGINAL-URL:https://balatonboglar.org
X-WR-CALDESC:Események Balatonboglári Városvédő Egyesület
REFRESH-INTERVAL;VALUE=DURATION:PT1H
X-Robots-Tag:noindex
X-PUBLISHED-TTL:PT1H
BEGIN:VTIMEZONE
TZID:Europe/Budapest
BEGIN:DAYLIGHT
TZOFFSETFROM:+0100
TZOFFSETTO:+0200
TZNAME:CEST
DTSTART:20250330T010000
END:DAYLIGHT
BEGIN:STANDARD
TZOFFSETFROM:+0200
TZOFFSETTO:+0100
TZNAME:CET
DTSTART:20251026T010000
END:STANDARD
BEGIN:DAYLIGHT
TZOFFSETFROM:+0100
TZOFFSETTO:+0200
TZNAME:CEST
DTSTART:20260329T010000
END:DAYLIGHT
BEGIN:STANDARD
TZOFFSETFROM:+0200
TZOFFSETTO:+0100
TZNAME:CET
DTSTART:20261025T010000
END:STANDARD
BEGIN:DAYLIGHT
TZOFFSETFROM:+0100
TZOFFSETTO:+0200
TZNAME:CEST
DTSTART:20270328T010000
END:DAYLIGHT
BEGIN:STANDARD
TZOFFSETFROM:+0200
TZOFFSETTO:+0100
TZNAME:CET
DTSTART:20271031T010000
END:STANDARD
END:VTIMEZONE
BEGIN:VEVENT
DTSTART;VALUE=DATE:20260307
DTEND;VALUE=DATE:20260308
DTSTAMP:20260421T095751
CREATED:20260303T103706Z
LAST-MODIFIED:20260303T103706Z
UID:14209-1772841600-1772927999@balatonboglar.org
SUMMARY:Faültetés Szőlőskislakon
DESCRIPTION:
URL:https://balatonboglar.org/event/faultetes-szoloskislakon/
ATTACH;FMTTYPE=image/jpeg:https://balatonboglar.org/wp-content/uploads/2026/03/Plakat-2.jpg
END:VEVENT
END:VCALENDAR