BEGIN:VCALENDAR
VERSION:2.0
PRODID:-//Balatonboglári Városvédő Egyesület - ECPv6.15.20//NONSGML v1.0//EN
CALSCALE:GREGORIAN
METHOD:PUBLISH
X-WR-CALNAME:Balatonboglári Városvédő Egyesület
X-ORIGINAL-URL:https://balatonboglar.org
X-WR-CALDESC:Események Balatonboglári Városvédő Egyesület
REFRESH-INTERVAL;VALUE=DURATION:PT1H
X-Robots-Tag:noindex
X-PUBLISHED-TTL:PT1H
BEGIN:VTIMEZONE
TZID:Europe/Budapest
BEGIN:DAYLIGHT
TZOFFSETFROM:+0100
TZOFFSETTO:+0200
TZNAME:CEST
DTSTART:20240331T010000
END:DAYLIGHT
BEGIN:STANDARD
TZOFFSETFROM:+0200
TZOFFSETTO:+0100
TZNAME:CET
DTSTART:20241027T010000
END:STANDARD
BEGIN:DAYLIGHT
TZOFFSETFROM:+0100
TZOFFSETTO:+0200
TZNAME:CEST
DTSTART:20250330T010000
END:DAYLIGHT
BEGIN:STANDARD
TZOFFSETFROM:+0200
TZOFFSETTO:+0100
TZNAME:CET
DTSTART:20251026T010000
END:STANDARD
BEGIN:DAYLIGHT
TZOFFSETFROM:+0100
TZOFFSETTO:+0200
TZNAME:CEST
DTSTART:20260329T010000
END:DAYLIGHT
BEGIN:STANDARD
TZOFFSETFROM:+0200
TZOFFSETTO:+0100
TZNAME:CET
DTSTART:20261025T010000
END:STANDARD
BEGIN:DAYLIGHT
TZOFFSETFROM:+0100
TZOFFSETTO:+0200
TZNAME:CEST
DTSTART:20270328T010000
END:DAYLIGHT
BEGIN:STANDARD
TZOFFSETFROM:+0200
TZOFFSETTO:+0100
TZNAME:CET
DTSTART:20271031T010000
END:STANDARD
END:VTIMEZONE
BEGIN:VTIMEZONE
TZID:UTC
BEGIN:STANDARD
TZOFFSETFROM:+0000
TZOFFSETTO:+0000
TZNAME:UTC
DTSTART:20220101T000000
END:STANDARD
END:VTIMEZONE
BEGIN:VTIMEZONE
TZID:Europe/Helsinki
BEGIN:DAYLIGHT
TZOFFSETFROM:+0200
TZOFFSETTO:+0300
TZNAME:EEST
DTSTART:20220327T010000
END:DAYLIGHT
BEGIN:STANDARD
TZOFFSETFROM:+0300
TZOFFSETTO:+0200
TZNAME:EET
DTSTART:20221030T010000
END:STANDARD
BEGIN:DAYLIGHT
TZOFFSETFROM:+0200
TZOFFSETTO:+0300
TZNAME:EEST
DTSTART:20230326T010000
END:DAYLIGHT
BEGIN:STANDARD
TZOFFSETFROM:+0300
TZOFFSETTO:+0200
TZNAME:EET
DTSTART:20231029T010000
END:STANDARD
BEGIN:DAYLIGHT
TZOFFSETFROM:+0200
TZOFFSETTO:+0300
TZNAME:EEST
DTSTART:20240331T010000
END:DAYLIGHT
BEGIN:STANDARD
TZOFFSETFROM:+0300
TZOFFSETTO:+0200
TZNAME:EET
DTSTART:20241027T010000
END:STANDARD
END:VTIMEZONE
BEGIN:VEVENT
DTSTART;TZID=Europe/Budapest:20260111T090000
DTEND;TZID=Europe/Budapest:20260111T130000
DTSTAMP:20260421T125427
CREATED:20260103T161600Z
LAST-MODIFIED:20260103T161639Z
UID:14103-1768122000-1768136400@balatonboglar.org
SUMMARY:Kék Ernyő civil egyesületek találkozója
DESCRIPTION:
URL:https://balatonboglar.org/event/kek-ernyo-civil-egyesuletek-talalkozoja/
LOCATION:Varga Béla Művelődési Ház Balatonboglár\, Árpád u.17.\, Balatonboglár\, Somogy\, 8630\, Hungary
ATTACH;FMTTYPE=image/png:https://balatonboglar.org/wp-content/uploads/2026/01/thumbnail_Meghivo-Kek-Ernyo.png
END:VEVENT
BEGIN:VEVENT
DTSTART;TZID=Europe/Budapest:20251022T170000
DTEND;TZID=Europe/Budapest:20251022T180000
DTSTAMP:20260421T125427
CREATED:20251021T172341Z
LAST-MODIFIED:20251021T172341Z
UID:14087-1761152400-1761156000@balatonboglar.org
SUMMARY:Egyesületünk részt vesz az '56-os hősökre való városi megemlékezésen\, ahol elhelyezzük tisztelgő koszorúnkat.
DESCRIPTION:
URL:https://balatonboglar.org/event/egyesuletunk-reszt-vesz-az-56-os-hosokre-valo-varosi-megemlekezesen-ahol-elhelyezzuk-tisztelgo-koszorunkat/
LOCATION:Ötvenhatos emlékmű\, Sétáló utca\, Balatonboglár\, Somogy\, 8630
ATTACH;FMTTYPE=image/png:https://balatonboglar.org/wp-content/uploads/2025/10/thumbnail_image.png
END:VEVENT
BEGIN:VEVENT
DTSTART;VALUE=DATE:20251011
DTEND;VALUE=DATE:20251012
DTSTAMP:20260421T125427
CREATED:20251008T172213Z
LAST-MODIFIED:20251008T172213Z
UID:14082-1760140800-1760227199@balatonboglar.org
SUMMARY:Főzzünk együtt!
DESCRIPTION:Az Összefogás Szőlőskilakért Egyesület szeretettel vár minden vállalkozó kedvű családot\, baráti társaságot egy közös főzésre a szüreti felvonulás napján\, 2025.10.11-én. \nA jelentkezők számára biztosítunk kenyeret\, műanyag tányért és evőeszközt. \nTöltsünk együtt egy kellemes napot\, megosztva egymással a sok finom falatot. \n  \nJelentkezni 10.08-ig\, Nyers Péternél (+36 20 218-9906) lehet!
URL:https://balatonboglar.org/event/fozzunk-egyutt/
LOCATION:Szőlőskislak\, Szőlőskislak\, Somogy\, 8630\, Hungary
ATTACH;FMTTYPE=image/png:https://balatonboglar.org/wp-content/uploads/2025/10/fozzunk-egyutt.png
ORGANIZER;CN="BVE":MAILTO:bve@balatonboglar.org
END:VEVENT
BEGIN:VEVENT
DTSTART;TZID=Europe/Budapest:20250930T170000
DTEND;TZID=Europe/Budapest:20250930T190000
DTSTAMP:20260421T125427
CREATED:20250925T072304Z
LAST-MODIFIED:20250930T064124Z
UID:14056-1759251600-1759258800@balatonboglar.org
SUMMARY:Megemlékezés a Rácfa hőseiről
DESCRIPTION:1848. szeptember 30-án Jellasics rekviráló csapatai felett győzelmet arató helyi\, szőlőskislaki\, boglári\, lellei nemzetőr csapatok és önkéntesek összefogásának története. Erre emlékezünk mécses gyújtással\, koszorúzással\, \n2025. szeptember 30-án 17 órától a Rácfánál. \nEzt követően a szőlőskislaki Művelődési Házban Horváth Iván helytörténész tart előadást az eseményekről. \nA múlt előtti tisztelgés után a jövőbe nézünk: a Révész Szeminárium keretében Somogy jövőjéről beszélgetünk. \nA rendezvény házigazdája/szervezője az Összefogás Szőlőskislakért Egyesület (ÖSZE). \nEgyüttműködő Partnere a Balatonboglári Városvédő Egyesület  (BVE). \nA rendezvény meghívott résztvevője a Somogyi Révész. \nTámogatónk a Balatonboglári Varga Béla művelődési Ház! \n  \nMindenkit szeretettel várunk!
URL:https://balatonboglar.org/event/megemlekezes-a-racfa-hoseirol/
LOCATION:Rácfa\, Balatonlelle\, Somogy\, 8638\, Hungary
ATTACH;FMTTYPE=image/png:https://balatonboglar.org/wp-content/uploads/2025/09/thumbnail_Meghivo.png
ORGANIZER;CN="BVE":MAILTO:bve@balatonboglar.org
END:VEVENT
BEGIN:VEVENT
DTSTART;TZID=Europe/Budapest:20250922T180000
DTEND;TZID=Europe/Budapest:20250922T200000
DTSTAMP:20260421T125427
CREATED:20250911T102228Z
LAST-MODIFIED:20250911T102327Z
UID:13880-1758564000-1758571200@balatonboglar.org
SUMMARY:Meghívó a Közgyűlésre
DESCRIPTION:A közgyűlés napirendi pontjai:\n1. Tájékoztatás az Aspektus+ „Helyben ható” pályázat aktuális állásáról\n2. Tisztújítás. Steiner László elnök mandátuma 2025.szeptember 29-én lejár.\nA BVE Jelölőbizottsága várja azon tagjaink jelentkezését\, akik kedvet és\nelhivatottságot éreznek az elnöki poszt betöltésére.\nJelölőbizottság tagjai: Kalász József\, Sós Zoltán\, Katona Ferenc\n3. Egyebek. \nHatározatképtelenség esetén a megismételt Közgyűlés időpontja\n2025. szept. 25. 18 óra\,\naz eredeti napirendi pontokkal.\nA megismételt Közgyűlés a megjelentek számára tekintet nélkül határozatképes. \nFIGYELEM!\nA Közgyűlésre minden tagunkat szeretettel várjuk!\nA közgyűlésen szavazásra csak az egyesületi tagok jogosultak\,\nszemélyes részvétellel vagy meghatalmazással!\n(Meghatalmazás nyomtatvány a mellékletben található)
URL:https://balatonboglar.org/event/meghivo-a-kozgyulesre/
LOCATION:Varga Béla Művelődési Ház Balatonboglár\, Árpád u.17.\, Balatonboglár\, Somogy\, 8630\, Hungary
ATTACH;FMTTYPE=image/jpeg:https://balatonboglar.org/wp-content/uploads/2025/09/Meghivo-kozgyulesre-2025.09.22._page-0001.jpg
ORGANIZER;CN="BVE":MAILTO:bve@balatonboglar.org
END:VEVENT
BEGIN:VEVENT
DTSTART;TZID=Europe/Budapest:20250826T080000
DTEND;TZID=Europe/Budapest:20250826T170000
DTSTAMP:20260421T125427
CREATED:20250826T110932Z
LAST-MODIFIED:20250826T110932Z
UID:13391-1756195200-1756227600@balatonboglar.org
SUMMARY:Teszt
DESCRIPTION:Próba
URL:https://balatonboglar.org/event/teszt/
LOCATION:Bugaszegi Téglamúzeum\, Balatonboglár\, Somogy\, 8635\, Hungary
ATTACH;FMTTYPE=image/webp:https://balatonboglar.org/wp-content/uploads/2024/07/d5e6630b-f4a5-4eaa-9074-7b39af458e1c.webp
END:VEVENT
BEGIN:VEVENT
DTSTART;TZID=UTC:20230812T210000
DTEND;TZID=UTC:20230812T230000
DTSTAMP:20260421T125427
CREATED:20230730T160230Z
LAST-MODIFIED:20230730T160230Z
UID:7992-1691874000-1691881200@balatonboglar.org
SUMMARY:2023.08.12. Kívánságok éjszakája - csillagászati előadás
DESCRIPTION:A csillagos égbolt titkai \nAugusztusi csillaghullás: a Perseidák meteorraj érkezése \n  \nVetítéssel egybekötött előadás\, interaktív beszélgetéssel\, \nmajd szabadtéri csillagnézés a Rácfánál. (jó idő esetén)
URL:https://balatonboglar.org/event/2023-08-12-kivansagok-ejszakaja-csillagaszati-eloadas/
ATTACH;FMTTYPE=image/webp:https://balatonboglar.org/wp-content/uploads/2023/07/Meghivo-scaled.webp
END:VEVENT
BEGIN:VEVENT
DTSTART;TZID=UTC:20230721T183000
DTEND;TZID=UTC:20230721T193000
DTSTAMP:20260421T125427
CREATED:20230715T083028Z
LAST-MODIFIED:20231120T195312Z
UID:7948-1689964200-1689967800@balatonboglar.org
SUMMARY:2023.07.21. Fotópályázat díjátadó
DESCRIPTION:Meghívó Fotópályázat díjátadó\n     \nFotópályázat nyertesek 2023.
URL:https://balatonboglar.org/event/2023-07-21-fotopalyazat-dijatado/
LOCATION:Varga Béla Művelődési Ház Balatonboglár\, Árpád u.17.\, Balatonboglár\, Somogy\, 8630\, Hungary
ATTACH;FMTTYPE=image/webp:https://balatonboglar.org/wp-content/uploads/2023/07/A4_Fotopalyazat_dijkioszto_2023-07-21.webp
END:VEVENT
BEGIN:VEVENT
DTSTART;TZID=UTC:20230702T100000
DTEND;TZID=UTC:20230702T110000
DTSTAMP:20260421T125427
CREATED:20230628T100306Z
LAST-MODIFIED:20231122T143721Z
UID:7832-1688292000-1688295600@balatonboglar.org
SUMMARY:2023.07.02. Születésnapi riport EPRES ATTILA színművésszel Boglári történetek 2.rész
DESCRIPTION:FRISS HÍR! ÉLŐ közvetítés! Boglári történetek 2.rész\nSzületésnapi riport (a BVE szervezésében)\nEPRES ATTILA színművésszel (60 éves)!\nMegtekinthető ITT:\nhttps://drive.google.com/drive/folders/0AHDcjLppVaohUk9PVA\nIdőpont: 2023.07.02. (vasárnap) de. 10 óra\nKésőbb is visszanézhető!\nModerátor: Molnárné Jezerniczky Dóra
URL:https://balatonboglar.org/event/2023-07-02-szuletesnapi-riport-epres-attila-szinmuvesszel-boglari-tortenetek-2-resz/
ATTACH;FMTTYPE=image/webp:https://balatonboglar.org/wp-content/uploads/2023/06/Epres-Attila.webp
ORGANIZER;CN="BVE":MAILTO:bve@balatonboglar.org
END:VEVENT
BEGIN:VEVENT
DTSTART;TZID=UTC:20230628T183000
DTEND;TZID=UTC:20230628T200000
DTSTAMP:20260421T125427
CREATED:20230624T212102Z
LAST-MODIFIED:20230624T212102Z
UID:7828-1687977000-1687982400@balatonboglar.org
SUMMARY:2023.06.28. Közgyűlés
DESCRIPTION:
URL:https://balatonboglar.org/event/2023-06-28-kozgyules/
LOCATION:Varga Béla Művelődési Ház Balatonboglár\, Árpád u.17.\, Balatonboglár\, Somogy\, 8630\, Hungary
ATTACH;FMTTYPE=image/webp:https://balatonboglar.org/wp-content/uploads/2023/06/Meghivo-1.webp
ORGANIZER;CN="BVE":MAILTO:bve@balatonboglar.org
END:VEVENT
BEGIN:VEVENT
DTSTART;TZID=UTC:20230601T183000
DTEND;TZID=UTC:20230601T200000
DTSTAMP:20260421T125427
CREATED:20230522T070301Z
LAST-MODIFIED:20230522T175312Z
UID:6129-1685644200-1685649600@balatonboglar.org
SUMMARY:Boglári történetek 1.rész "Az év leginspirálóbb tanára" Tóthné Bán Gyöngyi
DESCRIPTION:Beszélgetés Tóthné Bán Gyöngyi tanárnővel \n“Az év leginspirálóbb tanára” nemzetközi díj nyertesével\, valamint a diákokkal\, akikkel közösen nyerte el az \nExeptional School in Global Collaborations  \n(a „legkiemelkedőbb együttműködésért”) járó díjat. \n  \nSzeretettel meghívunk minden érdeklődőt\, öreg és fiatal tanulót\, \njelenlegi és volt diákot\, szüleiket\, nagyszüleiket a \nBalatonboglári Városvédő Egyesület  \n„live” pódiumbeszélgetésére.
URL:https://balatonboglar.org/event/boglari-tortenetek-1-resz-az-ev-leginspiralobb-tanara-tothne-ban-gyongyi/
ATTACH;FMTTYPE=image/jpeg:https://balatonboglar.org/wp-content/uploads/2023/05/dij.jpg
END:VEVENT
BEGIN:VEVENT
DTSTART;TZID=UTC:20230525T183000
DTEND;TZID=UTC:20230525T183000
DTSTAMP:20260421T125427
CREATED:20230522T063015Z
LAST-MODIFIED:20230523T123209Z
UID:6124-1685039400-1685039400@balatonboglar.org
SUMMARY:Tűzvédelem a mindennapokban
DESCRIPTION:Tűz van! Ne pánikolj! CSELEKEDJ! \n– Tűzvédelem jogi szempontból (kötelességek\, jogok)\n– Tűzoltó készülékek\n– Tűz van\, mit mondjak a tűzoltóknak (Tűzjelzés)\n– Mit tegyünk\, ha jön a tűzoltóautó (Tűzoltó járművek)\n– Mitől ég a tűz? Mi történik egy tűzeset során? (égés elméletben)\n– Szabad e szabadban tüzelni?\nMit tároljunk hol és hogyan?\n– Gázpalack\n– Benzines kanna\n– Veszélyes anyagok\n– Tűzifa
URL:https://balatonboglar.org/event/tuzvedelem-a-mindennapokban/
LOCATION:Varga Béla Művelődési Ház Balatonboglár\, Árpád u.17.\, Balatonboglár\, Somogy\, 8630\, Hungary
ATTACH;FMTTYPE=image/jpeg:https://balatonboglar.org/wp-content/uploads/2023/05/A3_Eletminoseg_szakosztaly_plakat_2023-05-25-scaled.jpg
END:VEVENT
BEGIN:VEVENT
DTSTART;TZID=Europe/Helsinki:20230514T104500
DTEND;TZID=Europe/Helsinki:20230514T130000
DTSTAMP:20260421T125427
CREATED:20230514T064133Z
LAST-MODIFIED:20231122T144401Z
UID:4662-1684061100-1684069200@balatonboglar.org
SUMMARY:2023.05.14. "Állati jó nap!" Beszélgetés állatvédelemről\, kutyalélektanról\,  állategészségügyről\, kiképzésről
DESCRIPTION:Meghívott vendégeink:\nSiófoki Állatvédő Alapítvány\, Állatmenhely\ntevékenység\, örökbefogadás menete\, kutyák bemutatása\nDr. Sziberth László állatorvos\nkutyák egészsége\, védekezés paraziták ellen\, oltások \nMEGLEPETÉS SZTÁRVENDÉG:\nTornóczky Anita (Superdog)\nViselkedés terapeuta\, Gazdi coach\, Táplálási tanácsadó \nIdőpont: 2023.05.14. Kezdés: 10 óra 45 perc\nHelyszín: Balatonboglár\, Szabadtéri színpad\, Vörös Kápolna
URL:https://balatonboglar.org/event/allati-jo-nap-beszelgetes-allatvedelemrol-kutyalelektanrol-allategeszsegugyrol-kikepzesrol/
LOCATION:Balatonboglár Vörös Kápolna
ATTACH;FMTTYPE=image/jpeg:https://balatonboglar.org/wp-content/uploads/2023/04/Kornyezetvedelem-plakat_2023-05-14_A4-web-jav.jpg
END:VEVENT
BEGIN:VEVENT
DTSTART;TZID=Europe/Helsinki:20230415T140000
DTEND;TZID=Europe/Helsinki:20230415T140000
DTSTAMP:20260421T125427
CREATED:20230424T122514Z
LAST-MODIFIED:20231122T141832Z
UID:4687-1681567200-1681567200@balatonboglar.org
SUMMARY:Rendhagyó biológia óra
DESCRIPTION:Ezúton szeretettel hívlak Benneteket is egy rövid szakmai beszélgetésre. Meghívott beszélgetőpartnerünk egy fiatal faápoló szakember lesz\, akivel az alábbi témákról szeretnénk szót váltani: – mi a jelentősége egy kb. 200 egyedből álló fasornak egy város életében\, – milyen szakmai javaslatai vannak a fák ápolását tekintve\, – miért káros a fák körüli munkavégzés\, – milyen hatással lehet a fákra az építkezés\, földlehordás\, terület megbolygatása\, – mennyire fontos az árnyékolás\, a por\, zaj\, és egyéb faktorok szempontjából az\, hogy megőrizzük örökölt természeti értékeinket. Reméljük\, hogy a jósolt rossz idő ellenére\, többen ki tudtok jönni a helyszínre. Biztosan érdekes lesz\, biztosan elhangzanak majd új információk\, és természetesen lehetőség nyílik majd kérdések megválaszolására is. Helyszín: Balatonboglár\, Tinódi-Kodály utca sarok Időpont: 2023.04.15. Várunk Benneteket szeretettel! Üdvözlettel: Tappler Zita
URL:https://balatonboglar.org/event/rendhagyo-biologia-ora/
END:VEVENT
END:VCALENDAR